BEGIN:VCALENDAR
VERSION:2.0
PRODID:spatie/icalendar-generator
DESCRIPTION:Évènements de 
X-WR-CALDESC:Évènements de 
REFRESH-INTERVAL;VALUE=DURATION:PT1440M
X-PUBLISHED-TTL:PT1440M
BEGIN:VTIMEZONE
TZID:Europe/Zurich
BEGIN:STANDARD
DTSTART:20251026T030000Z
TZOFFSETFROM:+0200
TZOFFSETTO:+0100
END:STANDARD
BEGIN:DAYLIGHT
DTSTART:20260329T020000Z
TZOFFSETFROM:+0100
TZOFFSETTO:+0200
END:DAYLIGHT
BEGIN:STANDARD
DTSTART:20261025T030000Z
TZOFFSETFROM:+0200
TZOFFSETTO:+0100
END:STANDARD
END:VTIMEZONE
BEGIN:VTIMEZONE
TZID:UTC
BEGIN:STANDARD
DTSTART:20250725T133351Z
TZOFFSETFROM:+0000
TZOFFSETTO:+0000
END:STANDARD
END:VTIMEZONE
BEGIN:VEVENT
UID:161-151
DTSTAMP:20260421T133351Z
SUMMARY:📌 Théâtre : \"Rapport pour une académie\" de Franz Kafka - di
 manche 24 mai 2026 à 17 h
LOCATION:
ORGANIZER;CN=Nat:MAILTO:nathalie@gressyland.ch
DTSTART;TZID=Europe/Zurich:20260524T170000
DTEND;TZID=Europe/Zurich:20260524T210000
X-ALT-DESC;FMTTYPE=TEXT/HTML:
CATEGORIES:General
URL;VALUE=URI:http://gressyland.ch/mc-events/%f0%9f%93%8c-theatre-rapport-p
 our-une-academie-de-franz-kafka-dimanche-24-mai-2026-a-17-h/
METHOD:PUBLISH
END:VEVENT
END:VCALENDAR